BEGIN:VCALENDAR
VERSION:2.0
PRODID:-//wp-events-plugin.com//7.2.3.1//EN
BEGIN:VEVENT
UID:414@greenwoodcounty.org
DTSTART;TZID=America/Chicago:20260915T000000
DTEND;TZID=America/Chicago:20260915T000000
DTSTAMP:20260320T152857Z
URL:https://www.greenwoodcounty.org/events/woody-encroachment-with-nrcs-do
 ug-spencer-state-range-specialist/
SUMMARY:Woody Encroachment with NRCS Doug Spencer\, State Range Specialist
DESCRIPTION:Contact Keila Sherman for more information:\ngwccdistrict@gmail
 .com\n1819 E River St.Eureka\, Kansas 67045620-583-5544 ext.3
ATTACH;FMTTYPE=image/jpeg:https://www.greenwoodcounty.org/wp-content/uploa
 ds/2025/01/DJI_0134-scaled.jpg
CATEGORIES:Community Event,Conservation District Events
LOCATION:Sauder Community Center\, 110 S 1st St\, Madison\, Kansas\, United
  States
GEO:38.137179;-96.133092
X-APPLE-STRUCTURED-LOCATION;VALUE=URI;X-ADDRESS=110 S 1st St\, Madison\, Ka
 nsas\, United States;X-APPLE-RADIUS=100;X-TITLE=Sauder Community Center:ge
 o:38.137179,-96.133092
END:VEVENT
BEGIN:VTIMEZONE
TZID:America/Chicago
X-LIC-LOCATION:America/Chicago
BEGIN:DAYLIGHT
DTSTART:20260308T030000
TZOFFSETFROM:-0600
TZOFFSETTO:-0500
TZNAME:CDT
END:DAYLIGHT
END:VTIMEZONE
END:VCALENDAR