BEGIN:VCALENDAR
VERSION:2.0
PRODID:-//wp-events-plugin.com//7.2.3.1//EN
BEGIN:VEVENT
UID:413@greenwoodcounty.org
DTSTART;TZID=America/Chicago:20260617T100000
DTEND;TZID=America/Chicago:20260617T150000
DTSTAMP:20260327T201315Z
URL:https://www.greenwoodcounty.org/events/9th-annual-women-in-ag-event-in
 -eureka/
SUMMARY:9th Annual Women in Ag event in Eureka
DESCRIPTION:\n\nContact Keila Sherman for more information:\n\ngwccdistrict
 @gmail.com\n\n110 E 3rd St.Eureka\, Kansas 67045620-583-5544 ext.3
ATTACH;FMTTYPE=image/jpeg:https://www.greenwoodcounty.org/wp-content/uploa
 ds/2026/03/9th-annual-women-in-ag-event-notice.png
CATEGORIES:Community Event,Conservation District Events
END:VEVENT
BEGIN:VTIMEZONE
TZID:America/Chicago
X-LIC-LOCATION:America/Chicago
BEGIN:DAYLIGHT
DTSTART:20260308T030000
TZOFFSETFROM:-0600
TZOFFSETTO:-0500
TZNAME:CDT
END:DAYLIGHT
END:VTIMEZONE
END:VCALENDAR